BEGIN:VCALENDAR
VERSION:2.0
PRODID:-//My Calendar//http://www.joedolson.com//v3.0.5//EN
METHOD:PUBLISH
CALSCALE:GREGORIAN
X-WR-CALNAME:Lënster Musek
X-PUBLISHED-TTL:PT24H
REFRESH-INTERVAL;VALUE=DURATION:PT24H
X-WR-CALDESC:Events from Lënster Musek
BEGIN:VEVENT
UID:59-42
LOCATION:
SUMMARY:Instrumenteprésentatioun
DTSTAMP:20180602T100000
ORGANIZER;CN=Luc Gretsch:MAILTO:mail.gretsch@icloud.com
DTSTART;TZID=Etc/GMT-1:20180602T100000
DTEND;TZID=Etc/GMT-1:20180602T110000
URL;VALUE=URI:http://lenstermusek.lu
DESCRIPTION: 
CATEGORIES:General
END:VEVENT
BEGIN:VEVENT
UID:53-38
LOCATION:
SUMMARY:Härläicheprozessioun
DTSTAMP:20180602T180000
ORGANIZER;CN=Luc Gretsch:MAILTO:mail.gretsch@icloud.com
DTSTART;TZID=Etc/GMT-1:20180602T180000
DTEND;TZID=Etc/GMT-1:20180602T190000
URL;VALUE=URI:http://lenstermusek.lu
DESCRIPTION:Uniform 
CATEGORIES:General
END:VEVENT
BEGIN:VEVENT
UID:39-27
LOCATION:
SUMMARY:Museksdaag CONCERT 100 Joer - 100 Musikanten
DTSTAMP:20180609T000000
ORGANIZER;CN=Luc Gretsch:MAILTO:mail.gretsch@icloud.com
DTSTART;TZID=Etc/GMT-1:20180609T000000
DTEND;TZID=Etc/GMT-1:20180611T000000
URL;VALUE=URI:http://lenstermusek.lu
DESCRIPTION:zesummen mat der Bierger Musek 
CATEGORIES:100Joër
END:VEVENT
BEGIN:VEVENT
UID:39-27
LOCATION:
SUMMARY:Museksdaag CONCERT 100 Joer - 100 Musikanten
DTSTAMP:20180609T000000
ORGANIZER;CN=Luc Gretsch:MAILTO:mail.gretsch@icloud.com
DTSTART;TZID=Etc/GMT-1:20180609T000000
DTEND;TZID=Etc/GMT-1:20180611T000000
URL;VALUE=URI:http://lenstermusek.lu
DESCRIPTION:zesummen mat der Bierger Musek 
CATEGORIES:100Joër
END:VEVENT
BEGIN:VEVENT
UID:54-39
LOCATION:
SUMMARY:Nationalfeierdag
DTSTAMP:20180622T000000
ORGANIZER;CN=Luc Gretsch:MAILTO:mail.gretsch@icloud.com
DTSTART;TZID=Etc/GMT-1:20180622T000000
DTEND;TZID=Etc/GMT-1:20180623T000000
URL;VALUE=URI:http://lenstermusek.lu
DESCRIPTION:Uniform 
CATEGORIES:General
END:VEVENT
BEGIN:VEVENT
UID:66-49
LOCATION:
SUMMARY:Porte Ouverte Museksall / Schoulfest
DTSTAMP:20180706T173000
ORGANIZER;CN=Luc Gretsch:MAILTO:mail.gretsch@icloud.com
DTSTART;TZID=Etc/GMT-1:20180706T173000
DTEND;TZID=Etc/GMT-1:20180706T183000
URL;VALUE=URI:http://lenstermusek.lu
DESCRIPTION: 
CATEGORIES:General
END:VEVENT
BEGIN:VEVENT
UID:55-40
LOCATION:
SUMMARY:Concert Plëss
DTSTAMP:20180706T200000
ORGANIZER;CN=Luc Gretsch:MAILTO:mail.gretsch@icloud.com
DTSTART;TZID=Etc/GMT-1:20180706T200000
DTEND;TZID=Etc/GMT-1:20180706T210000
URL;VALUE=URI:http://lenstermusek.lu
DESCRIPTION:Unfiform 
CATEGORIES:Concert
END:VEVENT
BEGIN:VEVENT
UID:38-28
LOCATION:
SUMMARY:Jugend Dag
DTSTAMP:20180708T000000
ORGANIZER;CN=Luc Gretsch:MAILTO:mail.gretsch@icloud.com
DTSTART;TZID=Etc/GMT-1:20180708T000000
DTEND;TZID=Etc/GMT-1:20180709T000000
URL;VALUE=URI:http://lenstermusek.lu
DESCRIPTION: 
CATEGORIES:100Joër
END:VEVENT
BEGIN:VEVENT
UID:67-50
LOCATION:
SUMMARY:Concert Musek's Fest Rosport
DTSTAMP:20180715T114500
ORGANIZER;CN=Luc Gretsch:MAILTO:mail.gretsch@icloud.com
DTSTART;TZID=Etc/GMT-1:20180715T114500
DTEND;TZID=Etc/GMT-1:20180715T124500
URL;VALUE=URI:http://lenstermusek.lu
DESCRIPTION: 
CATEGORIES:Concert
END:VEVENT
BEGIN:VEVENT
UID:68-51
LOCATION:
SUMMARY:Concert Duerffest Reiland
DTSTAMP:20180729T114500
ORGANIZER;CN=Luc Gretsch:MAILTO:mail.gretsch@icloud.com
DTSTART;TZID=Etc/GMT-1:20180729T114500
DTEND;TZID=Etc/GMT-1:20180729T124500
URL;VALUE=URI:http://lenstermusek.lu
DESCRIPTION: 
CATEGORIES:Concert
END:VEVENT
END:VCALENDAR