BEGIN:VCALENDAR
VERSION:2.0
PRODID:-//My Calendar//http://www.joedolson.com//v3.1.12//EN
METHOD:PUBLISH
CALSCALE:GREGORIAN
X-WR-CALNAME:Lënster Musek
X-PUBLISHED-TTL:PT24H
REFRESH-INTERVAL;VALUE=DURATION:PT24H
X-WR-CALDESC:Events from Lënster Musek
BEGIN:VEVENT
UID:94-77
LOCATION:
SUMMARY:Hämmelsmarch Beidweiler &amp; Grolënster
DTSTAMP:20191012T140000
ORGANIZER;CN=Luc Gretsch:MAILTO:mail.gretsch@icloud.com
DTSTART;TZID=Etc/GMT-1:20191012T140000
DTEND;TZID=Etc/GMT-1:20191012T150000
URL;VALUE=URI:http://lenstermusek.lu
DESCRIPTION: 
CATEGORIES:General
END:VEVENT
BEGIN:VEVENT
UID:95-78
LOCATION:
SUMMARY:Hämmelsmarsch Lënster
DTSTAMP:20191115T173000
ORGANIZER;CN=Luc Gretsch:MAILTO:mail.gretsch@icloud.com
DTSTART;TZID=Etc/GMT-1:20191115T173000
DTEND;TZID=Etc/GMT-1:20191115T183000
URL;VALUE=URI:http://lenstermusek.lu
DESCRIPTION: 
CATEGORIES:General
END:VEVENT
BEGIN:VEVENT
UID:96-79
LOCATION:
SUMMARY:Hämmelsmarsch Lënster
DTSTAMP:20191116T090000
ORGANIZER;CN=Luc Gretsch:MAILTO:mail.gretsch@icloud.com
DTSTART;TZID=Etc/GMT-1:20191116T090000
DTEND;TZID=Etc/GMT-1:20191116T100000
URL;VALUE=URI:http://lenstermusek.lu
DESCRIPTION: 
CATEGORIES:General
END:VEVENT
BEGIN:VEVENT
UID:97-80
LOCATION:
SUMMARY:100 Joër Lënster Gesang
DTSTAMP:20191122T193000
ORGANIZER;CN=Luc Gretsch:MAILTO:mail.gretsch@icloud.com
DTSTART;TZID=Etc/GMT-1:20191122T193000
DTEND;TZID=Etc/GMT-1:20191122T203000
URL;VALUE=URI:http://lenstermusek.lu
DESCRIPTION: 
CATEGORIES:Concert
END:VEVENT
BEGIN:VEVENT
UID:98-81
LOCATION:
SUMMARY:Caeciliendag
DTSTAMP:20191124T100000
ORGANIZER;CN=Luc Gretsch:MAILTO:mail.gretsch@icloud.com
DTSTART;TZID=Etc/GMT-1:20191124T100000
DTEND;TZID=Etc/GMT-1:20191124T110000
URL;VALUE=URI:http://lenstermusek.lu
DESCRIPTION: 
CATEGORIES:General
END:VEVENT
END:VCALENDAR