BEGIN:VCALENDAR
VERSION:2.0
PRODID:-//My Calendar//http://www.joedolson.com//v3.1.12//EN
METHOD:PUBLISH
CALSCALE:GREGORIAN
X-WR-CALNAME:Lënster Musek
X-PUBLISHED-TTL:PT24H
REFRESH-INTERVAL;VALUE=DURATION:PT24H
X-WR-CALDESC:Events from Lënster Musek
BEGIN:VEVENT
UID:86-69
LOCATION:
SUMMARY:Spranprozessioun Iechternach
DTSTAMP:20190611T103000
ORGANIZER;CN=Luc Gretsch:MAILTO:mail.gretsch@icloud.com
DTSTART;TZID=Etc/GMT-1:20190611T103000
DTEND;TZID=Etc/GMT-1:20190611T113000
URL;VALUE=URI:http://lenstermusek.lu
DESCRIPTION: 
CATEGORIES:General
END:VEVENT
BEGIN:VEVENT
UID:88-71
LOCATION:
SUMMARY:INFO Versammlung fir nei Awunner
DTSTAMP:20190615T110000
ORGANIZER;CN=Luc Gretsch:MAILTO:mail.gretsch@icloud.com
DTSTART;TZID=Etc/GMT-1:20190615T110000
DTEND;TZID=Etc/GMT-1:20190615T120000
URL;VALUE=URI:http://lenstermusek.lu
DESCRIPTION:am Duerf 
CATEGORIES:General
END:VEVENT
BEGIN:VEVENT
UID:87-70
LOCATION:
SUMMARY:Hämmelsmarsch Rodenbourg
DTSTAMP:20190615T140000
ORGANIZER;CN=Luc Gretsch:MAILTO:mail.gretsch@icloud.com
DTSTART;TZID=Etc/GMT-1:20190615T140000
DTEND;TZID=Etc/GMT-1:20190615T150000
URL;VALUE=URI:http://lenstermusek.lu
DESCRIPTION: 
CATEGORIES:General
END:VEVENT
BEGIN:VEVENT
UID:89-72
LOCATION:
SUMMARY:Nationalfeierdag
DTSTAMP:20190622T000000
ORGANIZER;CN=Luc Gretsch:MAILTO:mail.gretsch@icloud.com
DTSTART;TZID=Etc/GMT-1:20190622T000000
DTEND;TZID=Etc/GMT-1:20190623T000000
URL;VALUE=URI:http://lenstermusek.lu
DESCRIPTION: 
CATEGORIES:General
X-FUNAMBOL-ALLDAY: 1
X-MICROSOFT-CDO-ALLDAYEVENT: TRUE

END:VEVENT
BEGIN:VEVENT
UID:90-73
LOCATION:
SUMMARY:Porte Ouverte Museksall / Schoulfest
DTSTAMP:20190705T173000
ORGANIZER;CN=Luc Gretsch:MAILTO:mail.gretsch@icloud.com
DTSTART;TZID=Etc/GMT-1:20190705T173000
DTEND;TZID=Etc/GMT-1:20190705T183000
URL;VALUE=URI:http://lenstermusek.lu
DESCRIPTION: 
CATEGORIES:General
END:VEVENT
BEGIN:VEVENT
UID:91-74
LOCATION:
SUMMARY:CONCERT Grevenmacher
DTSTAMP:20190707T150000
ORGANIZER;CN=Luc Gretsch:MAILTO:mail.gretsch@icloud.com
DTSTART;TZID=Etc/GMT-1:20190707T150000
DTEND;TZID=Etc/GMT-1:20190707T160000
URL;VALUE=URI:http://lenstermusek.lu
DESCRIPTION: 
CATEGORIES:Concert
END:VEVENT
BEGIN:VEVENT
UID:92-75
LOCATION:
SUMMARY:Concert op der Place d' Armes
DTSTAMP:20190712T200000
ORGANIZER;CN=Luc Gretsch:MAILTO:mail.gretsch@icloud.com
DTSTART;TZID=Etc/GMT-1:20190712T200000
DTEND;TZID=Etc/GMT-1:20190712T210000
URL;VALUE=URI:http://lenstermusek.lu
DESCRIPTION: 
CATEGORIES:Concert
END:VEVENT
END:VCALENDAR