BEGIN:VCALENDAR
VERSION:2.0
PRODID:-//My Calendar//http://www.joedolson.com//v3.0.5//EN
METHOD:PUBLISH
CALSCALE:GREGORIAN
X-WR-CALNAME:Lënster Musek
X-PUBLISHED-TTL:PT24H
REFRESH-INTERVAL;VALUE=DURATION:PT24H
X-WR-CALDESC:Events from Lënster Musek
BEGIN:VEVENT
UID:56-31
LOCATION:
SUMMARY:Kavalcade Réimech
DTSTAMP:20180311T143000
ORGANIZER;CN=Luc Gretsch:MAILTO:mail.gretsch@icloud.com
DTSTART;TZID=Etc/GMT-1:20180311T143000
DTEND;TZID=Etc/GMT-1:20180311T153000
URL;VALUE=URI:http://lenstermusek.lu
DESCRIPTION: 
CATEGORIES:General
END:VEVENT
BEGIN:VEVENT
UID:35-25
LOCATION:
SUMMARY:BAL 100Joër
DTSTAMP:20180317T000000
ORGANIZER;CN=Luc Gretsch:MAILTO:mail.gretsch@icloud.com
DTSTART;TZID=Etc/GMT-1:20180317T000000
DTEND;TZID=Etc/GMT-1:20180318T000000
URL;VALUE=URI:http://lenstermusek.lu
DESCRIPTION: 
CATEGORIES:100Joër
END:VEVENT
BEGIN:VEVENT
UID:58-41
LOCATION:
SUMMARY:Concert Rollengergrond
DTSTAMP:20180324T000000
ORGANIZER;CN=Luc Gretsch:MAILTO:mail.gretsch@icloud.com
DTSTART;TZID=Etc/GMT-1:20180324T000000
DTEND;TZID=Etc/GMT-1:20180325T000000
URL;VALUE=URI:http://lenstermusek.lu
DESCRIPTION: 
CATEGORIES:Concert
END:VEVENT
BEGIN:VEVENT
UID:47-32
LOCATION:
SUMMARY:Kommunioun Gonneréng
DTSTAMP:20180407T160000
ORGANIZER;CN=Luc Gretsch:MAILTO:mail.gretsch@icloud.com
DTSTART;TZID=Etc/GMT-1:20180407T160000
DTEND;TZID=Etc/GMT-1:20180407T170000
URL;VALUE=URI:http://lenstermusek.lu
DESCRIPTION:Uniform 
CATEGORIES:General
END:VEVENT
BEGIN:VEVENT
UID:48-33
LOCATION:
SUMMARY:Kommunioun Lënster
DTSTAMP:20180408T101500
ORGANIZER;CN=Luc Gretsch:MAILTO:mail.gretsch@icloud.com
DTSTART;TZID=Etc/GMT-1:20180408T101500
DTEND;TZID=Etc/GMT-1:20180408T111500
URL;VALUE=URI:http://lenstermusek.lu
DESCRIPTION:Uniform 
CATEGORIES:General
END:VEVENT
BEGIN:VEVENT
UID:36-26
LOCATION:
SUMMARY:Concert Kado 100Joër
DTSTAMP:20180421T000000
ORGANIZER;CN=Luc Gretsch:MAILTO:mail.gretsch@icloud.com
DTSTART;TZID=Etc/GMT-1:20180421T000000
DTEND;TZID=Etc/GMT-1:20180422T000000
URL;VALUE=URI:http://lenstermusek.lu
DESCRIPTION: 
CATEGORIES:100Joër
END:VEVENT
END:VCALENDAR