BEGIN:VCALENDAR
VERSION:2.0
PRODID:-//My Calendar//http://www.joedolson.com//v3.0.5//EN
METHOD:PUBLISH
CALSCALE:GREGORIAN
X-WR-CALNAME:Lënster Musek
X-PUBLISHED-TTL:PT24H
REFRESH-INTERVAL;VALUE=DURATION:PT24H
X-WR-CALDESC:Events from Lënster Musek
BEGIN:VEVENT
UID:47-32
LOCATION:
SUMMARY:Kommunioun Gonneréng
DTSTAMP:20180407T160000
ORGANIZER;CN=Luc Gretsch:MAILTO:mail.gretsch@icloud.com
DTSTART;TZID=Etc/GMT-1:20180407T160000
DTEND;TZID=Etc/GMT-1:20180407T170000
URL;VALUE=URI:http://lenstermusek.lu
DESCRIPTION:Uniform 
CATEGORIES:General
END:VEVENT
BEGIN:VEVENT
UID:48-33
LOCATION:
SUMMARY:Kommunioun Lënster
DTSTAMP:20180408T101500
ORGANIZER;CN=Luc Gretsch:MAILTO:mail.gretsch@icloud.com
DTSTART;TZID=Etc/GMT-1:20180408T101500
DTEND;TZID=Etc/GMT-1:20180408T111500
URL;VALUE=URI:http://lenstermusek.lu
DESCRIPTION:Uniform 
CATEGORIES:General
END:VEVENT
BEGIN:VEVENT
UID:36-26
LOCATION:
SUMMARY:Concert Kado 100Joër
DTSTAMP:20180421T000000
ORGANIZER;CN=Luc Gretsch:MAILTO:mail.gretsch@icloud.com
DTSTART;TZID=Etc/GMT-1:20180421T000000
DTEND;TZID=Etc/GMT-1:20180422T000000
URL;VALUE=URI:http://lenstermusek.lu
DESCRIPTION: 
CATEGORIES:100Joër
END:VEVENT
BEGIN:VEVENT
UID:49-34
LOCATION:
SUMMARY:Eischt Meefeier
DTSTAMP:20180501T090000
ORGANIZER;CN=Luc Gretsch:MAILTO:mail.gretsch@icloud.com
DTSTART;TZID=Etc/GMT-1:20180501T090000
DTEND;TZID=Etc/GMT-1:20180501T100000
URL;VALUE=URI:http://lenstermusek.lu
DESCRIPTION:Polo / JacketBeim Chalet P&amp;Ch 
CATEGORIES:General
END:VEVENT
BEGIN:VEVENT
UID:50-35
LOCATION:
SUMMARY:Pilgerdag an d'Oktave
DTSTAMP:20180504T080000
ORGANIZER;CN=Luc Gretsch:MAILTO:mail.gretsch@icloud.com
DTSTART;TZID=Etc/GMT-1:20180504T080000
DTEND;TZID=Etc/GMT-1:20180504T090000
URL;VALUE=URI:http://lenstermusek.lu
DESCRIPTION: 
CATEGORIES:General
END:VEVENT
BEGIN:VEVENT
UID:51-36
LOCATION:
SUMMARY:Sprangprozessioun Iechternach
DTSTAMP:20180522T103000
ORGANIZER;CN=Luc Gretsch:MAILTO:mail.gretsch@icloud.com
DTSTART;TZID=Etc/GMT-1:20180522T103000
DTEND;TZID=Etc/GMT-1:20180522T113000
URL;VALUE=URI:http://lenstermusek.lu
DESCRIPTION:Jeans / wäisst Hiem 
CATEGORIES:General
END:VEVENT
BEGIN:VEVENT
UID:52-37
LOCATION:
SUMMARY:Hämmelsmarsch Rodenbourg
DTSTAMP:20180526T140000
ORGANIZER;CN=Luc Gretsch:MAILTO:mail.gretsch@icloud.com
DTSTART;TZID=Etc/GMT-1:20180526T140000
DTEND;TZID=Etc/GMT-1:20180526T150000
URL;VALUE=URI:http://lenstermusek.lu
DESCRIPTION:Polo / Jacket 
CATEGORIES:General
END:VEVENT
END:VCALENDAR