BEGIN:VCALENDAR
VERSION:2.0
PRODID:-//My Calendar//http://www.joedolson.com//v3.0.5//EN
METHOD:PUBLISH
CALSCALE:GREGORIAN
X-WR-CALNAME:Lënster Musek
X-PUBLISHED-TTL:PT24H
REFRESH-INTERVAL;VALUE=DURATION:PT24H
X-WR-CALDESC:Events from Lënster Musek
BEGIN:VEVENT
UID:60-43
LOCATION:
SUMMARY:Vizverkaf
DTSTAMP:20180929T090000
ORGANIZER;CN=Luc Gretsch:MAILTO:mail.gretsch@icloud.com
DTSTART;TZID=Etc/GMT-1:20180929T090000
DTEND;TZID=Etc/GMT-1:20180929T100000
URL;VALUE=URI:http://lenstermusek.lu
DESCRIPTION: 
CATEGORIES:General
END:VEVENT
END:VCALENDAR