BEGIN:VCALENDAR
VERSION:2.0
PRODID:-//My Calendar//http://www.joedolson.com//v3.1.12//EN
METHOD:PUBLISH
CALSCALE:GREGORIAN
X-WR-CALNAME:Lënster Musek
X-PUBLISHED-TTL:PT24H
REFRESH-INTERVAL;VALUE=DURATION:PT24H
X-WR-CALDESC:Events from Lënster Musek
BEGIN:VEVENT
UID:81-64
LOCATION:
SUMMARY:Eischt Meefeier
DTSTAMP:20190501T090000
ORGANIZER;CN=Luc Gretsch:MAILTO:mail.gretsch@icloud.com
DTSTART;TZID=Etc/GMT-1:20190501T090000
DTEND;TZID=Etc/GMT-1:20190501T100000
URL;VALUE=URI:http://lenstermusek.lu
DESCRIPTION: 
CATEGORIES:General
END:VEVENT
BEGIN:VEVENT
UID:82-65
LOCATION:
SUMMARY:Instrumenteprésentatioun
DTSTAMP:20190511T100000
ORGANIZER;CN=Luc Gretsch:MAILTO:mail.gretsch@icloud.com
DTSTART;TZID=Etc/GMT-1:20190511T100000
DTEND;TZID=Etc/GMT-1:20190511T110000
URL;VALUE=URI:http://lenstermusek.lu
DESCRIPTION: 
CATEGORIES:General
END:VEVENT
BEGIN:VEVENT
UID:83-66
LOCATION:
SUMMARY:Anno
DTSTAMP:20190512T170000
ORGANIZER;CN=Luc Gretsch:MAILTO:mail.gretsch@icloud.com
DTSTART;TZID=Etc/GMT-1:20190512T170000
DTEND;TZID=Etc/GMT-1:20190512T180000
URL;VALUE=URI:http://lenstermusek.lu
DESCRIPTION: 
CATEGORIES:Concert
END:VEVENT
BEGIN:VEVENT
UID:84-67
LOCATION:
SUMMARY:Gala Concert "Garnisouns-Musek"
DTSTAMP:20190518T193000
ORGANIZER;CN=Luc Gretsch:MAILTO:mail.gretsch@icloud.com
DTSTART;TZID=Etc/GMT-1:20190518T193000
DTEND;TZID=Etc/GMT-1:20190518T203000
URL;VALUE=URI:http://lenstermusek.lu
DESCRIPTION: 
CATEGORIES:Concert
END:VEVENT
BEGIN:VEVENT
UID:85-68
LOCATION:
SUMMARY:Pilgerdag an d'Oktave
DTSTAMP:20190524T080000
ORGANIZER;CN=Luc Gretsch:MAILTO:mail.gretsch@icloud.com
DTSTART;TZID=Etc/GMT-1:20190524T080000
DTEND;TZID=Etc/GMT-1:20190524T090000
URL;VALUE=URI:http://lenstermusek.lu
DESCRIPTION: 
CATEGORIES:General
END:VEVENT
END:VCALENDAR