BEGIN:VCALENDAR
VERSION:2.0
PRODID:spatie/icalendar-generator
DESCRIPTION:Events from Lënster Musek
X-WR-CALDESC:Events from Lënster Musek
REFRESH-INTERVAL;VALUE=DURATION:PT1440M
X-PUBLISHED-TTL:PT1440M
BEGIN:VTIMEZONE
TZID:Etc/GMT-1
BEGIN:STANDARD
DTSTART:20230301T100000Z
TZOFFSETFROM:+0100
TZOFFSETTO:+0100
END:STANDARD
END:VTIMEZONE
BEGIN:VTIMEZONE
TZID:UTC
BEGIN:STANDARD
DTSTART:20250728T192202Z
TZOFFSETFROM:+0000
TZOFFSETTO:+0000
END:STANDARD
END:VTIMEZONE
BEGIN:VEVENT
UID:210-187
DTSTAMP:20260424T192202Z
SUMMARY:Oofschlossconcert OJE
LOCATION:
ORGANIZER;CN=lenstermusek:MAILTO:info@lenstermusek.lu
DTSTART;TZID=Etc/GMT-1:20260904T193000
DTEND;TZID=Etc/GMT-1:20260904T203000
X-ALT-DESC;FMTTYPE=TEXT/HTML:vum 30ten August bis den 3ten September sinn d
 'Kanner neess um Stage vum OJE - hieren Oofschlossconcert fënnt dëst Joe
 r zu XXX statt
CATEGORIES:100Joër
URL;VALUE=URI:https://lenstermusek.lu/kalenner/?mc_id=210
METHOD:PUBLISH
END:VEVENT
BEGIN:VEVENT
UID:209-186
DTSTAMP:20260424T192202Z
SUMMARY:Concert vun der JLM zu Rousport
LOCATION:
ORGANIZER;CN=lenstermusek:MAILTO:info@lenstermusek.lu
DTSTART;TZID=Etc/GMT-1:20260712T140000
DTEND;TZID=Etc/GMT-1:20260712T150000
X-ALT-DESC;FMTTYPE=TEXT/HTML:Concert vun der Jonk Lënster Musek bei de Kol
 legen vun der Rousporter Musek - Auerzeit nach net konfirméiert
CATEGORIES:100Joër
URL;VALUE=URI:https://lenstermusek.lu/kalenner/?mc_id=209
METHOD:PUBLISH
END:VEVENT
BEGIN:VEVENT
UID:208-185
DTSTAMP:20260424T192202Z
SUMMARY:Concert - Summerfest CIPA
LOCATION:
ORGANIZER;CN=lenstermusek:MAILTO:info@lenstermusek.lu
DTSTART;TZID=Etc/GMT-1:20260627T140000
DTEND;TZID=Etc/GMT-1:20260627T150000
X-ALT-DESC;FMTTYPE=TEXT/HTML:Concert am CIPA Jonglenster am Kader vun hiere
 m Summerfest - Auerzeit nach net konfirméiert
CATEGORIES:100Joër
URL;VALUE=URI:https://lenstermusek.lu/kalenner/?mc_id=208
METHOD:PUBLISH
END:VEVENT
BEGIN:VEVENT
UID:207-184
DTSTAMP:20260424T192202Z
SUMMARY:Vieroowend Nationalfeierdaag
LOCATION:
ORGANIZER;CN=lenstermusek:MAILTO:info@lenstermusek.lu
DTSTART;TZID=Etc/GMT-1:20260622T180000
DTEND;TZID=Etc/GMT-1:20260622T190000
X-ALT-DESC;FMTTYPE=TEXT/HTML:
CATEGORIES:100Joër
URL;VALUE=URI:https://lenstermusek.lu/kalenner/?mc_id=207
METHOD:PUBLISH
END:VEVENT
BEGIN:VEVENT
UID:206-183
DTSTAMP:20260424T192202Z
SUMMARY:Anno 2026
LOCATION:
ORGANIZER;CN=lenstermusek:MAILTO:info@lenstermusek.lu
DTSTART;TZID=Etc/GMT-1:20260509T200000
DTEND;TZID=Etc/GMT-1:20260509T210000
X-ALT-DESC;FMTTYPE=TEXT/HTML:Fréijoersconcert am Concertssall vum Lënster
  Lycée an Zesummenaarbecht mat der Sandweiler Musek
CATEGORIES:100Joër
URL;VALUE=URI:https://lenstermusek.lu/kalenner/?mc_id=206
METHOD:PUBLISH
END:VEVENT
BEGIN:VEVENT
UID:205-182
DTSTAMP:20260424T192202Z
SUMMARY:Generalversammlung Lënster Musek asbl
LOCATION:
ORGANIZER;CN=lenstermusek:MAILTO:info@lenstermusek.lu
DTSTART;TZID=Etc/GMT-1:20260313T183000
DTEND;TZID=Etc/GMT-1:20260313T193000
X-ALT-DESC;FMTTYPE=TEXT/HTML:
CATEGORIES:100Joër
URL;VALUE=URI:https://lenstermusek.lu/kalenner/?mc_id=205
METHOD:PUBLISH
END:VEVENT
BEGIN:VEVENT
UID:204-181
DTSTAMP:20260424T192202Z
SUMMARY:Quizowend
LOCATION:
ORGANIZER;CN=lenstermusek:MAILTO:info@lenstermusek.lu
DTSTART;TZID=Etc/GMT-1:20260418T183000
DTEND;TZID=Etc/GMT-1:20260418T193000
X-ALT-DESC;FMTTYPE=TEXT/HTML:SOLD OUT
CATEGORIES:100Joër
URL;VALUE=URI:https://lenstermusek.lu/kalenner/?mc_id=204
METHOD:PUBLISH
END:VEVENT
BEGIN:VEVENT
UID:203-180
DTSTAMP:20260424T192203Z
SUMMARY:Generalversammlung OJE
LOCATION:
ORGANIZER;CN=lenstermusek:MAILTO:info@lenstermusek.lu
DTSTART;TZID=Etc/GMT-1:20260201T103000
DTEND;TZID=Etc/GMT-1:20260201T113000
X-ALT-DESC;FMTTYPE=TEXT/HTML:Als Member vum OJE (Orchestre des Jeunes de l'
 Est) ass d'Generalversammlung betreffend den Aktivitéiten vum Joer 2025 a
 m Museksall vun der Lënster Musek asbl
CATEGORIES:100Joër
URL;VALUE=URI:https://lenstermusek.lu/kalenner/?mc_id=203
METHOD:PUBLISH
END:VEVENT
BEGIN:VEVENT
UID:202-179
DTSTAMP:20260424T192203Z
SUMMARY:Turbulente GalaConcert
LOCATION:
ORGANIZER;CN=lenstermusek:MAILTO:info@lenstermusek.lu
DTSTART;TZID=Etc/GMT-1:20260117T193000
DTEND;TZID=Etc/GMT-1:20260117T203000
X-ALT-DESC;FMTTYPE=TEXT/HTML:[pdf-embedder url=\"http://lenstermusek.lu/wp-
 content/uploads/Galaconcert_2026.pdf\"]
CATEGORIES:100Joër
URL;VALUE=URI:https://lenstermusek.lu/kalenner/?mc_id=202
METHOD:PUBLISH
END:VEVENT
BEGIN:VEVENT
UID:200-177
DTSTAMP:20260424T192203Z
SUMMARY:Cäciliendaag
LOCATION:
ORGANIZER;CN=lenstermusek:MAILTO:info@lenstermusek.lu
DTSTART;TZID=Etc/GMT-1:20251123T104500
DTEND;TZID=Etc/GMT-1:20251123T114500
X-ALT-DESC;FMTTYPE=TEXT/HTML:
CATEGORIES:100Joër
URL;VALUE=URI:https://lenstermusek.lu/kalenner/?mc_id=200
METHOD:PUBLISH
END:VEVENT
BEGIN:VEVENT
UID:199-176
DTSTAMP:20260424T192203Z
SUMMARY:Virowend Nationalfeiertag
LOCATION:
ORGANIZER;CN=Luc Gretsch:MAILTO:mail.gretsch@icloud.com
DTSTART;TZID=Etc/GMT-1:20250622T180000
DTEND;TZID=Etc/GMT-1:20250622T190000
X-ALT-DESC;FMTTYPE=TEXT/HTML:
CATEGORIES:General
URL;VALUE=URI:https://lenstermusek.lu/kalenner/?mc_id=199
METHOD:PUBLISH
END:VEVENT
BEGIN:VEVENT
UID:198-175
DTSTAMP:20260424T192203Z
SUMMARY:Concert Philharmonie
LOCATION:
ORGANIZER;CN=Luc Gretsch:MAILTO:mail.gretsch@icloud.com
DTSTART;TZID=Etc/GMT-1:20250330T200000
DTEND;TZID=Etc/GMT-1:20250330T210000
X-ALT-DESC;FMTTYPE=TEXT/HTML:
CATEGORIES:Concert
URL;VALUE=URI:https://lenstermusek.lu/kalenner/?mc_id=198
METHOD:PUBLISH
END:VEVENT
BEGIN:VEVENT
UID:197-174
DTSTAMP:20260424T192203Z
SUMMARY:Quizowend
LOCATION:
ORGANIZER;CN=Luc Gretsch:MAILTO:mail.gretsch@icloud.com
DTSTART;TZID=Etc/GMT-1:20250308T180000
DTEND;TZID=Etc/GMT-1:20250308T190000
X-ALT-DESC;FMTTYPE=TEXT/HTML:
CATEGORIES:General
URL;VALUE=URI:https://lenstermusek.lu/kalenner/?mc_id=197
METHOD:PUBLISH
END:VEVENT
BEGIN:VEVENT
UID:196-173
DTSTAMP:20260424T192203Z
SUMMARY:Gala - Concert
LOCATION:
ORGANIZER;CN=Luc Gretsch:MAILTO:mail.gretsch@icloud.com
DTSTART;TZID=Etc/GMT-1:20250118T200000
DTEND;TZID=Etc/GMT-1:20250118T210000
X-ALT-DESC;FMTTYPE=TEXT/HTML:
CATEGORIES:Concert
URL;VALUE=URI:https://lenstermusek.lu/kalenner/?mc_id=196
METHOD:PUBLISH
END:VEVENT
BEGIN:VEVENT
UID:195-172
DTSTAMP:20260424T192203Z
SUMMARY:Musek ze verschenken
LOCATION:
ORGANIZER;CN=Luc Gretsch:MAILTO:mail.gretsch@icloud.com
DTSTART;TZID=Etc/GMT-1;VALUE=DATE:20241215
DTEND;TZID=Etc/GMT-1;VALUE=DATE:20241216
X-ALT-DESC;FMTTYPE=TEXT/HTML:
CATEGORIES:100Joër
URL;VALUE=URI:https://lenstermusek.lu/kalenner/?mc_id=195
METHOD:PUBLISH
END:VEVENT
BEGIN:VEVENT
UID:194-171
DTSTAMP:20260424T192203Z
SUMMARY:Caeciliendaag
LOCATION:
ORGANIZER;CN=Luc Gretsch:MAILTO:mail.gretsch@icloud.com
DTSTART;TZID=Etc/GMT-1;VALUE=DATE:20241124
DTEND;TZID=Etc/GMT-1;VALUE=DATE:20241125
X-ALT-DESC;FMTTYPE=TEXT/HTML:
CATEGORIES:General
URL;VALUE=URI:https://lenstermusek.lu/kalenner/?mc_id=194
METHOD:PUBLISH
END:VEVENT
BEGIN:VEVENT
UID:193-170
DTSTAMP:20260424T192203Z
SUMMARY:Hämmelsmarsch Junglinster
LOCATION:
ORGANIZER;CN=Luc Gretsch:MAILTO:mail.gretsch@icloud.com
DTSTART;TZID=Etc/GMT-1:20241115T180000
DTEND;TZID=Etc/GMT-1:20241116T190000
X-ALT-DESC;FMTTYPE=TEXT/HTML:
CATEGORIES:General
URL;VALUE=URI:https://lenstermusek.lu/kalenner/?mc_id=193
METHOD:PUBLISH
END:VEVENT
BEGIN:VEVENT
UID:192-169
DTSTAMP:20260424T192203Z
SUMMARY:Hämmelsmarsch Grolënster/Beidweiler
LOCATION:
ORGANIZER;CN=Luc Gretsch:MAILTO:mail.gretsch@icloud.com
DTSTART;TZID=Etc/GMT-1:20241012T140000
DTEND;TZID=Etc/GMT-1:20241012T150000
X-ALT-DESC;FMTTYPE=TEXT/HTML:
CATEGORIES:General
URL;VALUE=URI:https://lenstermusek.lu/kalenner/?mc_id=192
METHOD:PUBLISH
END:VEVENT
BEGIN:VEVENT
UID:191-168
DTSTAMP:20260424T192203Z
SUMMARY:Lënster Maart
LOCATION:
ORGANIZER;CN=Luc Gretsch:MAILTO:mail.gretsch@icloud.com
DTSTART;TZID=Etc/GMT-1;VALUE=DATE:20240927
DTEND;TZID=Etc/GMT-1;VALUE=DATE:20240929
X-ALT-DESC;FMTTYPE=TEXT/HTML:
CATEGORIES:General
URL;VALUE=URI:https://lenstermusek.lu/kalenner/?mc_id=191
METHOD:PUBLISH
END:VEVENT
BEGIN:VEVENT
UID:190-167
DTSTAMP:20260424T192203Z
SUMMARY:Oofschlossconcert Stage OJE
LOCATION:
ORGANIZER;CN=Luc Gretsch:MAILTO:mail.gretsch@icloud.com
DTSTART;TZID=Etc/GMT-1:20240831T160000
DTEND;TZID=Etc/GMT-1:20240831T170000
X-ALT-DESC;FMTTYPE=TEXT/HTML:
CATEGORIES:Concert
URL;VALUE=URI:https://lenstermusek.lu/kalenner/?mc_id=190
METHOD:PUBLISH
END:VEVENT
BEGIN:VEVENT
UID:189-166
DTSTAMP:20260424T192203Z
SUMMARY:Summerfest Hiefenech
LOCATION:
ORGANIZER;CN=Luc Gretsch:MAILTO:mail.gretsch@icloud.com
DTSTART;TZID=Etc/GMT-1:20240721T113000
DTEND;TZID=Etc/GMT-1:20240721T123000
X-ALT-DESC;FMTTYPE=TEXT/HTML:
CATEGORIES:General
URL;VALUE=URI:https://lenstermusek.lu/kalenner/?mc_id=189
METHOD:PUBLISH
END:VEVENT
BEGIN:VEVENT
UID:188-165
DTSTAMP:20260424T192203Z
SUMMARY:Musekfest Rousporter Musek (Rousport)
LOCATION:
ORGANIZER;CN=Luc Gretsch:MAILTO:mail.gretsch@icloud.com
DTSTART;TZID=Etc/GMT-1:20240713T163000
DTEND;TZID=Etc/GMT-1:20240713T173000
X-ALT-DESC;FMTTYPE=TEXT/HTML:
CATEGORIES:Concert
URL;VALUE=URI:https://lenstermusek.lu/kalenner/?mc_id=188
METHOD:PUBLISH
END:VEVENT
BEGIN:VEVENT
UID:187-164
DTSTAMP:20260424T192203Z
SUMMARY:Summerfest Distillerie Difrulux
LOCATION:
ORGANIZER;CN=Luc Gretsch:MAILTO:mail.gretsch@icloud.com
DTSTART;TZID=Etc/GMT-1:20240629T163000
DTEND;TZID=Etc/GMT-1:20240629T173000
X-ALT-DESC;FMTTYPE=TEXT/HTML:
CATEGORIES:Concert
URL;VALUE=URI:https://lenstermusek.lu/kalenner/?mc_id=187
METHOD:PUBLISH
END:VEVENT
BEGIN:VEVENT
UID:186-163
DTSTAMP:20260424T192203Z
SUMMARY:Fierowend Nationalfeierdaag
LOCATION:
ORGANIZER;CN=Luc Gretsch:MAILTO:mail.gretsch@icloud.com
DTSTART;TZID=Etc/GMT-1:20240622T183000
DTEND;TZID=Etc/GMT-1:20240622T193000
X-ALT-DESC;FMTTYPE=TEXT/HTML:
CATEGORIES:General
URL;VALUE=URI:https://lenstermusek.lu/kalenner/?mc_id=186
METHOD:PUBLISH
END:VEVENT
BEGIN:VEVENT
UID:185-162
DTSTAMP:20260424T192203Z
SUMMARY:Wake-up Festivaal Medernach
LOCATION:
ORGANIZER;CN=Luc Gretsch:MAILTO:mail.gretsch@icloud.com
DTSTART;TZID=Etc/GMT-1:20240615T142500
DTEND;TZID=Etc/GMT-1:20240615T145000
X-ALT-DESC;FMTTYPE=TEXT/HTML:
CATEGORIES:General
URL;VALUE=URI:https://lenstermusek.lu/kalenner/?mc_id=185
METHOD:PUBLISH
END:VEVENT
BEGIN:VEVENT
UID:184-161
DTSTAMP:20260424T192203Z
SUMMARY:Hämmelsmarsch Roudemer
LOCATION:
ORGANIZER;CN=Luc Gretsch:MAILTO:mail.gretsch@icloud.com
DTSTART;TZID=Etc/GMT-1:20240525T140000
DTEND;TZID=Etc/GMT-1:20240525T150000
X-ALT-DESC;FMTTYPE=TEXT/HTML:
CATEGORIES:General
URL;VALUE=URI:https://lenstermusek.lu/kalenner/?mc_id=184
METHOD:PUBLISH
END:VEVENT
BEGIN:VEVENT
UID:183-160
DTSTAMP:20260424T192203Z
SUMMARY:Galaconcert Rosport
LOCATION:
ORGANIZER;CN=Luc Gretsch:MAILTO:mail.gretsch@icloud.com
DTSTART;TZID=Etc/GMT-1:20240427T200000
DTEND;TZID=Etc/GMT-1:20240427T210000
X-ALT-DESC;FMTTYPE=TEXT/HTML:
CATEGORIES:Concert
URL;VALUE=URI:https://lenstermusek.lu/kalenner/?mc_id=183
METHOD:PUBLISH
END:VEVENT
BEGIN:VEVENT
UID:182-159
DTSTAMP:20260424T192203Z
SUMMARY:Annoconcert
LOCATION:
ORGANIZER;CN=Luc Gretsch:MAILTO:mail.gretsch@icloud.com
DTSTART;TZID=Etc/GMT-1;VALUE=DATE:20240518
DTEND;TZID=Etc/GMT-1;VALUE=DATE:20240519
X-ALT-DESC;FMTTYPE=TEXT/HTML:
CATEGORIES:Concert
URL;VALUE=URI:https://lenstermusek.lu/kalenner/?mc_id=182
METHOD:PUBLISH
END:VEVENT
BEGIN:VEVENT
UID:181-158
DTSTAMP:20260424T192203Z
SUMMARY:Quizowend
LOCATION:
ORGANIZER;CN=Luc Gretsch:MAILTO:mail.gretsch@icloud.com
DTSTART;TZID=Etc/GMT-1;VALUE=DATE:20240323
DTEND;TZID=Etc/GMT-1;VALUE=DATE:20240324
X-ALT-DESC;FMTTYPE=TEXT/HTML:
CATEGORIES:General
URL;VALUE=URI:https://lenstermusek.lu/kalenner/?mc_id=181
METHOD:PUBLISH
END:VEVENT
BEGIN:VEVENT
UID:180-157
DTSTAMP:20260424T192203Z
SUMMARY:Cäeciliendag
LOCATION:
ORGANIZER;CN=Luc Gretsch:MAILTO:mail.gretsch@icloud.com
DTSTART;TZID=Etc/GMT-1:20231126T100000
DTEND;TZID=Etc/GMT-1:20231126T120000
X-ALT-DESC;FMTTYPE=TEXT/HTML:
CATEGORIES:General
URL;VALUE=URI:https://lenstermusek.lu/kalenner/?mc_id=180
METHOD:PUBLISH
END:VEVENT
END:VCALENDAR