BEGIN:VCALENDAR
VERSION:2.0
PRODID:-//My Calendar//http://www.joedolson.com//v3.2.9//EN
METHOD:PUBLISH
CALSCALE:GREGORIAN
X-WR-CALNAME:Lënster Musek
X-PUBLISHED-TTL:PT24H
REFRESH-INTERVAL;VALUE=DURATION:PT24H
X-WR-CALDESC:Events from Lënster Musek
BEGIN:VEVENT
UID:116-99
LOCATION:
SUMMARY:Gala-Concert (ofgesoot)
DTSTAMP:20210123T190000
ORGANIZER;CN=Luc Gretsch:MAILTO:mail.gretsch@icloud.com
DTSTART;TZID=Etc/GMT-1:20210123T190000
DTEND;TZID=Etc/GMT-1:20210123T200000
URL;VALUE=URI:https://lenstermusek.lu
DESCRIPTION: 
CATEGORIES:Concert
END:VEVENT
BEGIN:VEVENT
UID:117-100
LOCATION:
SUMMARY:Generalversammlung
DTSTAMP:20210129T190000
ORGANIZER;CN=Luc Gretsch:MAILTO:mail.gretsch@icloud.com
DTSTART;TZID=Etc/GMT-1:20210129T190000
DTEND;TZID=Etc/GMT-1:20210129T200000
URL;VALUE=URI:https://lenstermusek.lu
DESCRIPTION: 
CATEGORIES:General
END:VEVENT
END:VCALENDAR